BEGIN:VCALENDAR
VERSION:2.0
PRODID:-//Morris County Golf Courses - ECPv6.15.18//NONSGML v1.0//EN
CALSCALE:GREGORIAN
METHOD:PUBLISH
X-WR-CALNAME:Morris County Golf Courses
X-ORIGINAL-URL:https://www.morriscountygolfcourses.com
X-WR-CALDESC:Events for Morris County Golf Courses
REFRESH-INTERVAL;VALUE=DURATION:PT1H
X-Robots-Tag:noindex
X-PUBLISHED-TTL:PT1H
BEGIN:VTIMEZONE
TZID:UTC
BEGIN:STANDARD
TZOFFSETFROM:+0000
TZOFFSETTO:+0000
TZNAME:UTC
DTSTART:20240101T000000
END:STANDARD
END:VTIMEZONE
BEGIN:VEVENT
DTSTART;TZID=UTC:20250728T080000
DTEND;TZID=UTC:20250731T113000
DTSTAMP:20260422T051023
CREATED:20250404T195743Z
LAST-MODIFIED:20250407T193804Z
UID:10000026-1753689600-1753961400@www.morriscountygolfcourses.com
SUMMARY:2025 Summer Junior Camps
DESCRIPTION:2026 Flanders Valley Summer Junior Golf Camp
URL:https://www.morriscountygolfcourses.com/event/2025-summer-junior-camps/2025-07-28/
LOCATION:Flanders Valley\, 81 Pleasant Hill Road\, Flanders\, NJ\, 07836\, United States
END:VEVENT
END:VCALENDAR