BEGIN:VCALENDAR
VERSION:2.0
PRODID:-//Morris County Golf Courses - ECPv6.15.18//NONSGML v1.0//EN
CALSCALE:GREGORIAN
METHOD:PUBLISH
X-ORIGINAL-URL:https://www.morriscountygolfcourses.com
X-WR-CALDESC:Events for Morris County Golf Courses
REFRESH-INTERVAL;VALUE=DURATION:PT1H
X-Robots-Tag:noindex
X-PUBLISHED-TTL:PT1H
BEGIN:VTIMEZONE
TZID:America/New_York
BEGIN:DAYLIGHT
TZOFFSETFROM:-0500
TZOFFSETTO:-0400
TZNAME:EDT
DTSTART:20240310T070000
END:DAYLIGHT
BEGIN:STANDARD
TZOFFSETFROM:-0400
TZOFFSETTO:-0500
TZNAME:EST
DTSTART:20241103T060000
END:STANDARD
BEGIN:DAYLIGHT
TZOFFSETFROM:-0500
TZOFFSETTO:-0400
TZNAME:EDT
DTSTART:20250309T070000
END:DAYLIGHT
BEGIN:STANDARD
TZOFFSETFROM:-0400
TZOFFSETTO:-0500
TZNAME:EST
DTSTART:20251102T060000
END:STANDARD
BEGIN:DAYLIGHT
TZOFFSETFROM:-0500
TZOFFSETTO:-0400
TZNAME:EDT
DTSTART:20260308T070000
END:DAYLIGHT
BEGIN:STANDARD
TZOFFSETFROM:-0400
TZOFFSETTO:-0500
TZNAME:EST
DTSTART:20261101T060000
END:STANDARD
END:VTIMEZONE
BEGIN:VEVENT
DTSTART;TZID=America/New_York:20251025T080000
DTEND;TZID=America/New_York:20251026T170000
DTSTAMP:20260424T072736
CREATED:20250929T161000Z
LAST-MODIFIED:20251014T132739Z
UID:10000092-1761379200-1761498000@www.morriscountygolfcourses.com
SUMMARY:Sunset Valley Club Championship
DESCRIPTION:🏌️‍♂️ Sunset Valley Golf Course 🏌️‍♀️\n2025 Club Championship\nOpen to All Members\n📅 Tournament Dates\nRound 1 – Stroke Play (Seeding Round)\n🗓️ October 25th – 26th –36 Holes\n\n\nDetermines bracket placement\n\n\nTop 16 advance to Championship Flight (Scratch)\n\n\nAll other players placed in Players Bracket (Handicaps apply)\n\n\n*Round 1 match play*\n\n\nMatch Play Rounds\n🗓️ November 1st – 2nd\n\n\nChampionship Flight: Match play\, no handicaps\n\n\nPlayers Bracket: Match play with handicaps\n\n\n💵 Registration Fee: $75 + Greens Fee when you arrive at the golf course.\nIncludes:\n\n\n🍔 Lunch Ticket\n\n\n🍻 Drink Ticket\n\n\n🎯 Entry into Contests & Prizes\n\n\n\n🏆 Contests & Prizes\n\n\nBracket Champions Win Prizes\n\n\nAdditional Raffle Prizes!\n\n\n\n📍 Location: Sunset Valley Golf Course📝 Sign Up Deadline: October 20th>>REGISTER HERE<<
URL:https://www.morriscountygolfcourses.com/event/sunset-valley-club-championship/
LOCATION:Sunset Valley\, 47 W. Sunset Road\, Pompton Plains\, New Jersey\, 07444
ORGANIZER;CN="Patrick Cardoso":MAILTO:pcardoso@kempersports.com
END:VEVENT
BEGIN:VEVENT
DTSTART;TZID=America/New_York:20251025T110000
DTEND;TZID=America/New_York:20251025T170000
DTSTAMP:20260424T072736
CREATED:20250923T175239Z
LAST-MODIFIED:20251024T002545Z
UID:10000090-1761390000-1761411600@www.morriscountygolfcourses.com
SUMMARY:1st Annual Swings Championship
DESCRIPTION:1st Annual SWINGS Championship \nCome join us for a great day of Fall Golf! \n📅 Date: Saturday October 25th\, 2025⏰ Start Time: 11:00 AM Shotgun Start (Registration begins at 9:30am)📍 Location: Flanders Valley Golf Course – Blue/White👥 Format: 2-Man Best Ball💵 Entry Fee: $260 per Team \nAdditional Event Information: \n\nExclusive embroidered event towels\nPrizes include $300 Pro Shop Gift Cards\, Oakley Sunglasses\, SWINGS Gear\, Evan’s Golf Shop Handmade Ball Markers and Willy’s Golf Shop Vintage Gear.\nComplimentary refillable event cups. Includes beer from the Jersey Girl keg or Surfside Iced Tea & Lemonade
URL:https://www.morriscountygolfcourses.com/event/1st-annual-swings-championship/
LOCATION:Flanders Valley\, 81 Pleasant Hill Road\, Flanders\, NJ\, 07836\, United States
ORGANIZER;CN="Bill Meyler":MAILTO:bmeyler@kempersports.com
END:VEVENT
END:VCALENDAR