BEGIN:VCALENDAR
VERSION:2.0
PRODID:-//Morris County Golf Courses - ECPv6.15.18//NONSGML v1.0//EN
CALSCALE:GREGORIAN
METHOD:PUBLISH
X-ORIGINAL-URL:https://www.morriscountygolfcourses.com
X-WR-CALDESC:Events for Morris County Golf Courses
REFRESH-INTERVAL;VALUE=DURATION:PT1H
X-Robots-Tag:noindex
X-PUBLISHED-TTL:PT1H
BEGIN:VTIMEZONE
TZID:America/New_York
BEGIN:DAYLIGHT
TZOFFSETFROM:-0500
TZOFFSETTO:-0400
TZNAME:EDT
DTSTART:20240310T070000
END:DAYLIGHT
BEGIN:STANDARD
TZOFFSETFROM:-0400
TZOFFSETTO:-0500
TZNAME:EST
DTSTART:20241103T060000
END:STANDARD
BEGIN:DAYLIGHT
TZOFFSETFROM:-0500
TZOFFSETTO:-0400
TZNAME:EDT
DTSTART:20250309T070000
END:DAYLIGHT
BEGIN:STANDARD
TZOFFSETFROM:-0400
TZOFFSETTO:-0500
TZNAME:EST
DTSTART:20251102T060000
END:STANDARD
BEGIN:DAYLIGHT
TZOFFSETFROM:-0500
TZOFFSETTO:-0400
TZNAME:EDT
DTSTART:20260308T070000
END:DAYLIGHT
BEGIN:STANDARD
TZOFFSETFROM:-0400
TZOFFSETTO:-0500
TZNAME:EST
DTSTART:20261101T060000
END:STANDARD
END:VTIMEZONE
BEGIN:VEVENT
DTSTART;TZID=America/New_York:20251101T080000
DTEND;TZID=America/New_York:20251102T160000
DTSTAMP:20260424T084142
CREATED:20251007T162003Z
LAST-MODIFIED:20251021T210345Z
UID:10000094-1761984000-1762099200@www.morriscountygolfcourses.com
SUMMARY:2025 Berkshire Valley Superintendent's Revenge
DESCRIPTION:JOIN US for a fun packed 2-day event with tons of revenge! \nDetails: \n\n10:00 am Shotgun Scramble Format (Everyone Plays from The Black Tee Box)\nBreakfast Included\nSleeve of Golf Balls Included\nLunch Ticket Included\nDrink Ticket Included\nHole Contests AND SO MUCH MORE\n\nCost: $140 pp or $500 if you sign up as a Foursome \nSATURDAY IS NOW FULL \nPlease enable JavaScript in your browser to complete this form.Select Date You Would Like To Play Sunday November 2ndName *FirstLast2nd Person NameFirstLastOnly required if you are signing up as a team3rd Person NameFirstLastOnly required if you are signing up as a team4th Person NameFirstLastOnly required if you are signing up as a teamPhone *Email *2nd Person EmailOnly required if you are signing up as a team3rd Person EmailOnly required if you are signing up as a team4th Person EmailOnly required if you are signing up as a teamPayment - $140 pp or $500 if you sign up as a foursomePlease note that registration spots are held only after payment is received. For credit card payments\, the charge will be processed upon receipt and completion of the registration form.Choose Payment OptionSingle - $140Foursome - $500Name on Credit CardCredit Card NumberExpiration DateSec. CodeI understand and agree to abide by the following:\nPayment Policy: Payment for the full program(s) must be included. Payments will be processed upon receipt. Insufficient\nfunds\, returned check or refused credit card charge will incur a fee of $20. Please be advised that a 3% processing fee will\nbe applied to all online registrations paid by credit card. This fee covers the cost of credit card transactions and is non-refundable. \nCancellation Policy: The program may be cancelled due to lack of the minimum number of participants required. All cancellations must be in writing and submitted to the address below. Cancellations received two weeks before the date of the program will be honored. No shows will forfeit 100% of the program fee. \nAdditional Acknowledgements: By completing this registration form you consent to participate in the above golf clinic and acknowledge that you are doing so at your own risk. Staff may take photos or videos during the event for promotion. If you don’t want your image used for anything other than instruction\, please inform the staff that day. \nRegister
URL:https://www.morriscountygolfcourses.com/event/2025-berkshire-valley-superintendents-revenge/
LOCATION:Berkshire Valley Golf Course\, 28 Cozy Lake Road\, Oak Ridge\, NJ\, 07438\, United States
ORGANIZER;CN="Zach Bromfield":MAILTO:zbromfield@kempersports.com
END:VEVENT
END:VCALENDAR