BEGIN:VCALENDAR
VERSION:2.0
PRODID:-//Morris County Golf Courses - ECPv6.15.18//NONSGML v1.0//EN
CALSCALE:GREGORIAN
METHOD:PUBLISH
X-WR-CALNAME:Morris County Golf Courses
X-ORIGINAL-URL:https://www.morriscountygolfcourses.com
X-WR-CALDESC:Events for Morris County Golf Courses
REFRESH-INTERVAL;VALUE=DURATION:PT1H
X-Robots-Tag:noindex
X-PUBLISHED-TTL:PT1H
BEGIN:VTIMEZONE
TZID:America/New_York
BEGIN:DAYLIGHT
TZOFFSETFROM:-0500
TZOFFSETTO:-0400
TZNAME:EDT
DTSTART:20250309T070000
END:DAYLIGHT
BEGIN:STANDARD
TZOFFSETFROM:-0400
TZOFFSETTO:-0500
TZNAME:EST
DTSTART:20251102T060000
END:STANDARD
BEGIN:DAYLIGHT
TZOFFSETFROM:-0500
TZOFFSETTO:-0400
TZNAME:EDT
DTSTART:20260308T070000
END:DAYLIGHT
BEGIN:STANDARD
TZOFFSETFROM:-0400
TZOFFSETTO:-0500
TZNAME:EST
DTSTART:20261101T060000
END:STANDARD
BEGIN:DAYLIGHT
TZOFFSETFROM:-0500
TZOFFSETTO:-0400
TZNAME:EDT
DTSTART:20270314T070000
END:DAYLIGHT
BEGIN:STANDARD
TZOFFSETFROM:-0400
TZOFFSETTO:-0500
TZNAME:EST
DTSTART:20271107T060000
END:STANDARD
END:VTIMEZONE
BEGIN:VEVENT
DTSTART;TZID=America/New_York:20260518T100000
DTEND;TZID=America/New_York:20260518T110000
DTSTAMP:20260424T123927
CREATED:20260413T153124Z
LAST-MODIFIED:20260413T153124Z
UID:10000172-1779098400-1779102000@www.morriscountygolfcourses.com
SUMMARY:Short Game Clinics
DESCRIPTION:SHORT GAME CLINICS WITH MIKE \n\n\n\n\nThis class is taught by Mike Andrusin\, PGA\, and is offered both during the day and at night\, and will be geared to golfers of all skill levels. We’ll cover grip\, posture\, alignment\, and setup for all three areas of your short game! \nEach class is 1 hour long and must have at least 3 participants. Golfers should bring a 7-iron\, 9-iron\, Pitching Wedge and Sand Wedge. \nCOST: $55 per person\, per session \nClinic Dates: \nMay 6th @ 10:00am – Pinch Brook Golf Course \nMay 18th @ 6:00pm – Flanders Valley Golf Course \nJune 2nd @ 10:00am – Pinch Brook Golf Course \nJune 15th @ 6:00pm – Flanders Valley Golf Course \nJuly 16th @ 6:00pm – Pinch Brook Golf Course \nJuly 28th @ 6:00pm – Flanders Valley Golf Course \nAugust 4th @ 6:00pm – Pinch Brook Golf Course \nAugust 18th @ 6:00pm – Flanders Valley Golf Course \nREGISTER HERE
URL:https://www.morriscountygolfcourses.com/event/short-game-clinics/2026-05-18/
LOCATION:Flanders Valley\, 81 Pleasant Hill Road\, Flanders\, NJ\, 07836\, United States
ORGANIZER;CN="Mike Andrusin":MAILTO:mandrusin@kempersports.com
END:VEVENT
END:VCALENDAR