BEGIN:VCALENDAR
VERSION:2.0
PRODID:-//Morris County Golf Courses - ECPv6.15.18//NONSGML v1.0//EN
CALSCALE:GREGORIAN
METHOD:PUBLISH
X-WR-CALNAME:Morris County Golf Courses
X-ORIGINAL-URL:https://www.morriscountygolfcourses.com
X-WR-CALDESC:Events for Morris County Golf Courses
REFRESH-INTERVAL;VALUE=DURATION:PT1H
X-Robots-Tag:noindex
X-PUBLISHED-TTL:PT1H
BEGIN:VTIMEZONE
TZID:UTC
BEGIN:STANDARD
TZOFFSETFROM:+0000
TZOFFSETTO:+0000
TZNAME:UTC
DTSTART:20250101T000000
END:STANDARD
END:VTIMEZONE
BEGIN:VEVENT
DTSTART;TZID=UTC:20260622T080000
DTEND;TZID=UTC:20260625T113000
DTSTAMP:20260424T123918
CREATED:20260120T220440Z
LAST-MODIFIED:20260120T220440Z
UID:10000114-1782115200-1782387000@www.morriscountygolfcourses.com
SUMMARY:2026 Summer Junior Camps
DESCRIPTION:2026 Flanders Valley Summer Junior Golf Camp
URL:https://www.morriscountygolfcourses.com/event/2026-summer-junior-camps/2026-06-22/
LOCATION:Flanders Valley\, 81 Pleasant Hill Road\, Flanders\, NJ\, 07836\, United States
ORGANIZER;CN="Mike Andrusin":MAILTO:mandrusin@kempersports.com
END:VEVENT
END:VCALENDAR