BEGIN:VCALENDAR
VERSION:2.0
PRODID:-//Morris County Golf Courses - ECPv6.15.18//NONSGML v1.0//EN
CALSCALE:GREGORIAN
METHOD:PUBLISH
X-ORIGINAL-URL:https://www.morriscountygolfcourses.com
X-WR-CALDESC:Events for Morris County Golf Courses
REFRESH-INTERVAL;VALUE=DURATION:PT1H
X-Robots-Tag:noindex
X-PUBLISHED-TTL:PT1H
BEGIN:VTIMEZONE
TZID:UTC
BEGIN:STANDARD
TZOFFSETFROM:+0000
TZOFFSETTO:+0000
TZNAME:UTC
DTSTART:20240101T000000
END:STANDARD
END:VTIMEZONE
BEGIN:VTIMEZONE
TZID:America/New_York
BEGIN:DAYLIGHT
TZOFFSETFROM:-0500
TZOFFSETTO:-0400
TZNAME:EDT
DTSTART:20240310T070000
END:DAYLIGHT
BEGIN:STANDARD
TZOFFSETFROM:-0400
TZOFFSETTO:-0500
TZNAME:EST
DTSTART:20241103T060000
END:STANDARD
BEGIN:DAYLIGHT
TZOFFSETFROM:-0500
TZOFFSETTO:-0400
TZNAME:EDT
DTSTART:20250309T070000
END:DAYLIGHT
BEGIN:STANDARD
TZOFFSETFROM:-0400
TZOFFSETTO:-0500
TZNAME:EST
DTSTART:20251102T060000
END:STANDARD
BEGIN:DAYLIGHT
TZOFFSETFROM:-0500
TZOFFSETTO:-0400
TZNAME:EDT
DTSTART:20260308T070000
END:DAYLIGHT
BEGIN:STANDARD
TZOFFSETFROM:-0400
TZOFFSETTO:-0500
TZNAME:EST
DTSTART:20261101T060000
END:STANDARD
END:VTIMEZONE
BEGIN:VEVENT
DTSTART;TZID=UTC:20250707T080000
DTEND;TZID=UTC:20250710T113000
DTSTAMP:20260422T051420
CREATED:20250404T195743Z
LAST-MODIFIED:20250407T193804Z
UID:10000024-1751875200-1752147000@www.morriscountygolfcourses.com
SUMMARY:2025 Summer Junior Camps
DESCRIPTION:2026 Flanders Valley Summer Junior Golf Camp
URL:https://www.morriscountygolfcourses.com/event/2025-summer-junior-camps/2025-07-07/
LOCATION:Flanders Valley\, 81 Pleasant Hill Road\, Flanders\, NJ\, 07836\, United States
END:VEVENT
BEGIN:VEVENT
DTSTART;TZID=America/New_York:20250709T183000
DTEND;TZID=America/New_York:20250709T193000
DTSTAMP:20260422T051420
CREATED:20250506T195337Z
LAST-MODIFIED:20250506T195337Z
UID:10000048-1752085800-1752089400@www.morriscountygolfcourses.com
SUMMARY:LPGA of Northern NJ Instructional Sessions
DESCRIPTION:Join our Golf Instructor\, Mike Andrusin\, for one or all of the upcoming LPGA of Northern NJ instructional clinics. Each session will be held at Flanders Valley Golf Course and is $55 per person per session. You can sign-up by clicking on Register Now below. We are looking forward to working on your golf skills and having a great time!\n\n\nClinic Schedule\n\nPutting – Monday May 19th  @ 6:00pm\nChipping – Wednesday June 4th @ 6:00pm\nPitching On Course – Wednesday July 9th @ 6:30pm\n50 Yards and In – Wednesday July 30th @ 6:30pm\n\n\nREGISTER NOW!
URL:https://www.morriscountygolfcourses.com/event/lpga-of-northern-nj-instructional-sessions/2025-07-09/
LOCATION:Flanders Valley\, 81 Pleasant Hill Road\, Flanders\, NJ\, 07836\, United States
END:VEVENT
BEGIN:VEVENT
DTSTART;TZID=UTC:20250710T100000
DTEND;TZID=UTC:20250710T110000
DTSTAMP:20260422T051420
CREATED:20250327T222424Z
LAST-MODIFIED:20250424T180542Z
UID:10000016-1752141600-1752145200@www.morriscountygolfcourses.com
SUMMARY:Putting Sessions
DESCRIPTION:Successful putting is a combination of science\, art and bit of imagination. This interactive session will discuss techniques that will have you more comfortable on the putting green over the ball. Confidence as you address the ball and make the motion to strike the putt will go a long way to holing more putts. \nRATES: $50 per person per session\, 3 golfer minimum and 8 golfer maximum \nDATES & TIMES:\nMay 2nd\, 2025 – 10:00am – Pinch Brook Golf Course \nJune 5\, 2025 – 10:00am – Flanders Valley Golf Course \nJuly 10th\, 2025 – 6:00pm – Pinch Brook Golf Course \nAugust 11th\, 2025 – 6:00pm – Flanders Valley Golf Course \n  \nREGISTER NOW
URL:https://www.morriscountygolfcourses.com/event/putting-sessions/2025-07-10/
LOCATION:Pinch Brook Golf Course\, 234 Ridgedale Avenue\, Florham Park\, New Jersey\, 07932
END:VEVENT
BEGIN:VEVENT
DTSTART;TZID=America/New_York:20250711T090000
DTEND;TZID=America/New_York:20250711T170000
DTSTAMP:20260422T051420
CREATED:20250506T152933Z
LAST-MODIFIED:20250514T165505Z
UID:10000038-1752224400-1752253200@www.morriscountygolfcourses.com
SUMMARY:Morris County Interclub Tournament 2025
DESCRIPTION:The Morris County Golf Courses will be hosting an Interclub Tournament this 2025 season! \nEvent Details: \n\nThe entry fee of $125 per person is due at registration and includes a lunch ticket at Flanders Valley\, Sunset Valley and Pinch Brook\, Banquet at Berkshire Valley and Prizes.\nWe will be doing Gross and Net scoring. Handicap is required for Net Eligibility.\nYou must be a Morris County Resident and County Cardholder to participate\nAll rounds will be pay as you go at each course\nThe best 3 of 4 scores will count\nTee Time start at 9am for all rounds\n\nTournament Schedule: \n1st Round – Flanders Valley on July 11th \n2nd Round – Sunset Valley on July 25th \n3rd Round – Pinch Brook on August 8th \nFinal Round – Berkshire Valley on August 22nd \nREGISTER NOW!
URL:https://www.morriscountygolfcourses.com/event/morris-county-interclub-tournament-2025/2025-07-11/
LOCATION:New Jersey
ORGANIZER;CN="Bill Meyler":MAILTO:bmeyler@kempersports.com
END:VEVENT
BEGIN:VEVENT
DTSTART;TZID=America/New_York:20250711T200000
DTEND;TZID=America/New_York:20250711T230000
DTSTAMP:20260422T051420
CREATED:20250513T195459Z
LAST-MODIFIED:20250917T170341Z
UID:10000053-1752264000-1752274800@www.morriscountygolfcourses.com
SUMMARY:Night Golf at Pinch Brook
DESCRIPTION:Just because the sun has gone down does not mean golf has to end. Night Golf at Pinch Brook Golf Course is back!! There are 8 events this year to get in on the fun. A non-refundable $60 per person per session is due at sign-up. This event is WALKING ONLY!  \nWhat’s Included: Greens Fee\, 2 Glow Balls\, Glow Necklace\, Drink Ticket and Door Prize. \nAll dates are to be held at Pinch Brook Golf Course. \nFriday June 6th – 9 hole Shotgun @ 9pm \nFriday June 20th – 9 hole Shotgun @ 9pm \nFriday July 11th – 9 hole Shotgun @ 9pm \nFriday July 18th – 9 hole Shotgun @ 9pm \nFriday August 1st – 9 hole Shotgun @ 9pm \nFriday August 15th – 9 hole Shotgun @ 8:30pm \nFriday August 29th – 9 hole Shotgun @ 8pm \nFriday September 19th- 9 hole Shotgun @7:30PM- FULLY BOOKED \nREGISTER NOW!
URL:https://www.morriscountygolfcourses.com/event/night-golf-at-pinch-brook/2025-07-11/
LOCATION:Pinch Brook Golf Course\, 234 Ridgedale Avenue\, Florham Park\, New Jersey\, 07932
END:VEVENT
BEGIN:VEVENT
DTSTART;TZID=UTC:20250714T080000
DTEND;TZID=UTC:20250717T113000
DTSTAMP:20260422T051420
CREATED:20250404T195743Z
LAST-MODIFIED:20250407T193804Z
UID:10000025-1752480000-1752751800@www.morriscountygolfcourses.com
SUMMARY:2025 Summer Junior Camps
DESCRIPTION:2026 Flanders Valley Summer Junior Golf Camp
URL:https://www.morriscountygolfcourses.com/event/2025-summer-junior-camps/2025-07-14/
LOCATION:Flanders Valley\, 81 Pleasant Hill Road\, Flanders\, NJ\, 07836\, United States
END:VEVENT
BEGIN:VEVENT
DTSTART;TZID=America/New_York:20250718T200000
DTEND;TZID=America/New_York:20250718T230000
DTSTAMP:20260422T051420
CREATED:20250513T195459Z
LAST-MODIFIED:20250917T170341Z
UID:10000054-1752868800-1752879600@www.morriscountygolfcourses.com
SUMMARY:Night Golf at Pinch Brook
DESCRIPTION:Just because the sun has gone down does not mean golf has to end. Night Golf at Pinch Brook Golf Course is back!! There are 8 events this year to get in on the fun. A non-refundable $60 per person per session is due at sign-up. This event is WALKING ONLY!  \nWhat’s Included: Greens Fee\, 2 Glow Balls\, Glow Necklace\, Drink Ticket and Door Prize. \nAll dates are to be held at Pinch Brook Golf Course. \nFriday June 6th – 9 hole Shotgun @ 9pm \nFriday June 20th – 9 hole Shotgun @ 9pm \nFriday July 11th – 9 hole Shotgun @ 9pm \nFriday July 18th – 9 hole Shotgun @ 9pm \nFriday August 1st – 9 hole Shotgun @ 9pm \nFriday August 15th – 9 hole Shotgun @ 8:30pm \nFriday August 29th – 9 hole Shotgun @ 8pm \nFriday September 19th- 9 hole Shotgun @7:30PM- FULLY BOOKED \nREGISTER NOW!
URL:https://www.morriscountygolfcourses.com/event/night-golf-at-pinch-brook/2025-07-18/
LOCATION:Pinch Brook Golf Course\, 234 Ridgedale Avenue\, Florham Park\, New Jersey\, 07932
END:VEVENT
BEGIN:VEVENT
DTSTART;TZID=America/New_York:20250725T090000
DTEND;TZID=America/New_York:20250725T170000
DTSTAMP:20260422T051420
CREATED:20250506T152933Z
LAST-MODIFIED:20250514T165505Z
UID:10000039-1753434000-1753462800@www.morriscountygolfcourses.com
SUMMARY:Morris County Interclub Tournament 2025
DESCRIPTION:The Morris County Golf Courses will be hosting an Interclub Tournament this 2025 season! \nEvent Details: \n\nThe entry fee of $125 per person is due at registration and includes a lunch ticket at Flanders Valley\, Sunset Valley and Pinch Brook\, Banquet at Berkshire Valley and Prizes.\nWe will be doing Gross and Net scoring. Handicap is required for Net Eligibility.\nYou must be a Morris County Resident and County Cardholder to participate\nAll rounds will be pay as you go at each course\nThe best 3 of 4 scores will count\nTee Time start at 9am for all rounds\n\nTournament Schedule: \n1st Round – Flanders Valley on July 11th \n2nd Round – Sunset Valley on July 25th \n3rd Round – Pinch Brook on August 8th \nFinal Round – Berkshire Valley on August 22nd \nREGISTER NOW!
URL:https://www.morriscountygolfcourses.com/event/morris-county-interclub-tournament-2025/2025-07-25/
LOCATION:New Jersey
ORGANIZER;CN="Bill Meyler":MAILTO:bmeyler@kempersports.com
END:VEVENT
BEGIN:VEVENT
DTSTART;TZID=UTC:20250728T080000
DTEND;TZID=UTC:20250731T113000
DTSTAMP:20260422T051420
CREATED:20250404T195743Z
LAST-MODIFIED:20250407T193804Z
UID:10000026-1753689600-1753961400@www.morriscountygolfcourses.com
SUMMARY:2025 Summer Junior Camps
DESCRIPTION:2026 Flanders Valley Summer Junior Golf Camp
URL:https://www.morriscountygolfcourses.com/event/2025-summer-junior-camps/2025-07-28/
LOCATION:Flanders Valley\, 81 Pleasant Hill Road\, Flanders\, NJ\, 07836\, United States
END:VEVENT
BEGIN:VEVENT
DTSTART;TZID=America/New_York:20250730T183000
DTEND;TZID=America/New_York:20250730T193000
DTSTAMP:20260422T051421
CREATED:20250506T195337Z
LAST-MODIFIED:20250506T195337Z
UID:10000049-1753900200-1753903800@www.morriscountygolfcourses.com
SUMMARY:LPGA of Northern NJ Instructional Sessions
DESCRIPTION:Join our Golf Instructor\, Mike Andrusin\, for one or all of the upcoming LPGA of Northern NJ instructional clinics. Each session will be held at Flanders Valley Golf Course and is $55 per person per session. You can sign-up by clicking on Register Now below. We are looking forward to working on your golf skills and having a great time!\n\n\nClinic Schedule\n\nPutting – Monday May 19th  @ 6:00pm\nChipping – Wednesday June 4th @ 6:00pm\nPitching On Course – Wednesday July 9th @ 6:30pm\n50 Yards and In – Wednesday July 30th @ 6:30pm\n\n\nREGISTER NOW!
URL:https://www.morriscountygolfcourses.com/event/lpga-of-northern-nj-instructional-sessions/2025-07-30/
LOCATION:Flanders Valley\, 81 Pleasant Hill Road\, Flanders\, NJ\, 07836\, United States
END:VEVENT
END:VCALENDAR