BEGIN:VCALENDAR
VERSION:2.0
PRODID:-//Morris County Golf Courses - ECPv6.15.18//NONSGML v1.0//EN
CALSCALE:GREGORIAN
METHOD:PUBLISH
X-ORIGINAL-URL:https://www.morriscountygolfcourses.com
X-WR-CALDESC:Events for Morris County Golf Courses
REFRESH-INTERVAL;VALUE=DURATION:PT1H
X-Robots-Tag:noindex
X-PUBLISHED-TTL:PT1H
BEGIN:VTIMEZONE
TZID:America/New_York
BEGIN:DAYLIGHT
TZOFFSETFROM:-0500
TZOFFSETTO:-0400
TZNAME:EDT
DTSTART:20240310T070000
END:DAYLIGHT
BEGIN:STANDARD
TZOFFSETFROM:-0400
TZOFFSETTO:-0500
TZNAME:EST
DTSTART:20241103T060000
END:STANDARD
BEGIN:DAYLIGHT
TZOFFSETFROM:-0500
TZOFFSETTO:-0400
TZNAME:EDT
DTSTART:20250309T070000
END:DAYLIGHT
BEGIN:STANDARD
TZOFFSETFROM:-0400
TZOFFSETTO:-0500
TZNAME:EST
DTSTART:20251102T060000
END:STANDARD
BEGIN:DAYLIGHT
TZOFFSETFROM:-0500
TZOFFSETTO:-0400
TZNAME:EDT
DTSTART:20260308T070000
END:DAYLIGHT
BEGIN:STANDARD
TZOFFSETFROM:-0400
TZOFFSETTO:-0500
TZNAME:EST
DTSTART:20261101T060000
END:STANDARD
END:VTIMEZONE
BEGIN:VTIMEZONE
TZID:UTC
BEGIN:STANDARD
TZOFFSETFROM:+0000
TZOFFSETTO:+0000
TZNAME:UTC
DTSTART:20240101T000000
END:STANDARD
END:VTIMEZONE
BEGIN:VEVENT
DTSTART;TZID=America/New_York:20250801T080000
DTEND;TZID=America/New_York:20250801T150000
DTSTAMP:20260420T060605
CREATED:20250711T155218Z
LAST-MODIFIED:20250711T155218Z
UID:10000070-1754035200-1754060400@www.morriscountygolfcourses.com
SUMMARY:Folds of Honor Golf Outing
DESCRIPTION:Berkshire Valley Golf Course is hosting a charity event for Folds of Honor on Friday August 1\, 2025. Proceeds will be donated to the organization that helps military and first responder heroes and their families by providing Folds of Honor academic scholarships. We will have contests throughout the round\, raffles and 50/50. \nEvent Details: \n\n9:00 AM Shotgun Start\nIndividual Stableford (1+ Par = 1 point\, Par = 2 points\, Birdie = 3 points…)\n$110pp includes 18 holes of golf and cart\, range balls\, tee gift\, $5 donation\, lunch and prizes after the round\n\n  Register Now!
URL:https://www.morriscountygolfcourses.com/event/folds-of-honor-golf-outing/
LOCATION:Berkshire Valley Golf Course\, 28 Cozy Lake Road\, Oak Ridge\, NJ\, 07438\, United States
ORGANIZER;CN="Zach Bromfield":MAILTO:zbromfield@kempersports.com
END:VEVENT
BEGIN:VEVENT
DTSTART;TZID=America/New_York:20250801T200000
DTEND;TZID=America/New_York:20250801T230000
DTSTAMP:20260420T060605
CREATED:20250513T195459Z
LAST-MODIFIED:20250917T170341Z
UID:10000055-1754078400-1754089200@www.morriscountygolfcourses.com
SUMMARY:Night Golf at Pinch Brook
DESCRIPTION:Just because the sun has gone down does not mean golf has to end. Night Golf at Pinch Brook Golf Course is back!! There are 8 events this year to get in on the fun. A non-refundable $60 per person per session is due at sign-up. This event is WALKING ONLY!  \nWhat’s Included: Greens Fee\, 2 Glow Balls\, Glow Necklace\, Drink Ticket and Door Prize. \nAll dates are to be held at Pinch Brook Golf Course. \nFriday June 6th – 9 hole Shotgun @ 9pm \nFriday June 20th – 9 hole Shotgun @ 9pm \nFriday July 11th – 9 hole Shotgun @ 9pm \nFriday July 18th – 9 hole Shotgun @ 9pm \nFriday August 1st – 9 hole Shotgun @ 9pm \nFriday August 15th – 9 hole Shotgun @ 8:30pm \nFriday August 29th – 9 hole Shotgun @ 8pm \nFriday September 19th- 9 hole Shotgun @7:30PM- FULLY BOOKED \nREGISTER NOW!
URL:https://www.morriscountygolfcourses.com/event/night-golf-at-pinch-brook/2025-08-01/
LOCATION:Pinch Brook Golf Course\, 234 Ridgedale Avenue\, Florham Park\, New Jersey\, 07932
END:VEVENT
BEGIN:VEVENT
DTSTART;TZID=America/New_York:20250802T120000
DTEND;TZID=America/New_York:20250802T170000
DTSTAMP:20260420T060605
CREATED:20250627T171949Z
LAST-MODIFIED:20250725T143712Z
UID:10000067-1754136000-1754154000@www.morriscountygolfcourses.com
SUMMARY:Sunset Valley Ham and Egg Scramble
DESCRIPTION:🏌️‍♂️ Ham & Egg Two-Man Scramble 🥚🥓📍 Sunset Valley Golf Course📅 Saturday\, August 2nd⏰ Tee times starting at 12:00 PM💲 $175 per team (includes cart\, food & prizes!) \nGrab your golf partner and join us for the Ham & Egg Two-Man Scramble at Sunset Valley! This fun-filled afternoon of friendly competition includes: \n✅ Two-Man Scramble Format✅ Golf Cart Included✅ Delicious Post-Round Food✅ Awesome Prizes \nSpaces are limited—secure your spot today and don’t miss out on a great day of golf\, food\, and fun! \n📞 Call 973.835.1515 or 📧 pcardoso@kempersports.coM
URL:https://www.morriscountygolfcourses.com/event/sunset-valley-ham-and-egg-scramble/
LOCATION:Sunset Valley\, 47 W. Sunset Road\, Pompton Plains\, New Jersey\, 07444
ORGANIZER;CN="Patrick Cardoso":MAILTO:pcardoso@kempersports.com
END:VEVENT
BEGIN:VEVENT
DTSTART;TZID=UTC:20250804T080000
DTEND;TZID=UTC:20250807T113000
DTSTAMP:20260420T060605
CREATED:20250404T195743Z
LAST-MODIFIED:20250407T193804Z
UID:10000027-1754294400-1754566200@www.morriscountygolfcourses.com
SUMMARY:2025 Summer Junior Camps
DESCRIPTION:2026 Flanders Valley Summer Junior Golf Camp
URL:https://www.morriscountygolfcourses.com/event/2025-summer-junior-camps/2025-08-04/
LOCATION:Flanders Valley\, 81 Pleasant Hill Road\, Flanders\, NJ\, 07836\, United States
END:VEVENT
BEGIN:VEVENT
DTSTART;TZID=America/New_York:20250808T090000
DTEND;TZID=America/New_York:20250808T170000
DTSTAMP:20260420T060605
CREATED:20250506T152933Z
LAST-MODIFIED:20250514T165505Z
UID:10000040-1754643600-1754672400@www.morriscountygolfcourses.com
SUMMARY:Morris County Interclub Tournament 2025
DESCRIPTION:The Morris County Golf Courses will be hosting an Interclub Tournament this 2025 season! \nEvent Details: \n\nThe entry fee of $125 per person is due at registration and includes a lunch ticket at Flanders Valley\, Sunset Valley and Pinch Brook\, Banquet at Berkshire Valley and Prizes.\nWe will be doing Gross and Net scoring. Handicap is required for Net Eligibility.\nYou must be a Morris County Resident and County Cardholder to participate\nAll rounds will be pay as you go at each course\nThe best 3 of 4 scores will count\nTee Time start at 9am for all rounds\n\nTournament Schedule: \n1st Round – Flanders Valley on July 11th \n2nd Round – Sunset Valley on July 25th \n3rd Round – Pinch Brook on August 8th \nFinal Round – Berkshire Valley on August 22nd \nREGISTER NOW!
URL:https://www.morriscountygolfcourses.com/event/morris-county-interclub-tournament-2025/2025-08-08/
LOCATION:New Jersey
ORGANIZER;CN="Bill Meyler":MAILTO:bmeyler@kempersports.com
END:VEVENT
BEGIN:VEVENT
DTSTART;TZID=America/New_York:20250815T080000
DTEND;TZID=America/New_York:20250816T150000
DTSTAMP:20260420T060605
CREATED:20250725T132718Z
LAST-MODIFIED:20250725T133305Z
UID:10000072-1755244800-1755356400@www.morriscountygolfcourses.com
SUMMARY:2025 Ryder Cup in The Valley
DESCRIPTION:Join us for a 2-Day Event of competitive golf\, food\, drinks and the most anticipated event of the year!  \n2 Teams of 10 Players \n20 Players Total (First Come\, First Serve) \nDay One 8/15/2025                                                            Day Two 8/16/2025 \n·8:00 AM Tee Times                                                           ·8:00 AM Tee Times        \n·Alternate Shot (Foursomes)                                             ·Singles Matches \n·Lunch                                                                               ·1 Hour Open Bar \n·Results                                                                             ·Lunch/Awards & Prizes \n·Alternate Shot \n·Lunch \n·Results                                                     \n·2:00 PM Tee Times \n·Four Ball \nAll inclusive cost: $300.00 \n*Must have a USGA Handicap\, if you do not then additional $45.00 to get one*                        REGISTER NOW \n 
URL:https://www.morriscountygolfcourses.com/event/2025-ryder-cup-in-the-valley/
LOCATION:Berkshire Valley Golf Course\, 28 Cozy Lake Road\, Oak Ridge\, NJ\, 07438\, United States
ORGANIZER;CN="Zach Bromfield":MAILTO:zbromfield@kempersports.com
END:VEVENT
BEGIN:VEVENT
DTSTART;TZID=America/New_York:20250815T200000
DTEND;TZID=America/New_York:20250815T230000
DTSTAMP:20260420T060605
CREATED:20250513T195459Z
LAST-MODIFIED:20250917T170341Z
UID:10000056-1755288000-1755298800@www.morriscountygolfcourses.com
SUMMARY:Night Golf at Pinch Brook
DESCRIPTION:Just because the sun has gone down does not mean golf has to end. Night Golf at Pinch Brook Golf Course is back!! There are 8 events this year to get in on the fun. A non-refundable $60 per person per session is due at sign-up. This event is WALKING ONLY!  \nWhat’s Included: Greens Fee\, 2 Glow Balls\, Glow Necklace\, Drink Ticket and Door Prize. \nAll dates are to be held at Pinch Brook Golf Course. \nFriday June 6th – 9 hole Shotgun @ 9pm \nFriday June 20th – 9 hole Shotgun @ 9pm \nFriday July 11th – 9 hole Shotgun @ 9pm \nFriday July 18th – 9 hole Shotgun @ 9pm \nFriday August 1st – 9 hole Shotgun @ 9pm \nFriday August 15th – 9 hole Shotgun @ 8:30pm \nFriday August 29th – 9 hole Shotgun @ 8pm \nFriday September 19th- 9 hole Shotgun @7:30PM- FULLY BOOKED \nREGISTER NOW!
URL:https://www.morriscountygolfcourses.com/event/night-golf-at-pinch-brook/2025-08-15/
LOCATION:Pinch Brook Golf Course\, 234 Ridgedale Avenue\, Florham Park\, New Jersey\, 07932
END:VEVENT
BEGIN:VEVENT
DTSTART;TZID=America/New_York:20250822T090000
DTEND;TZID=America/New_York:20250822T170000
DTSTAMP:20260420T060605
CREATED:20250506T152933Z
LAST-MODIFIED:20250514T165505Z
UID:10000041-1755853200-1755882000@www.morriscountygolfcourses.com
SUMMARY:Morris County Interclub Tournament 2025
DESCRIPTION:The Morris County Golf Courses will be hosting an Interclub Tournament this 2025 season! \nEvent Details: \n\nThe entry fee of $125 per person is due at registration and includes a lunch ticket at Flanders Valley\, Sunset Valley and Pinch Brook\, Banquet at Berkshire Valley and Prizes.\nWe will be doing Gross and Net scoring. Handicap is required for Net Eligibility.\nYou must be a Morris County Resident and County Cardholder to participate\nAll rounds will be pay as you go at each course\nThe best 3 of 4 scores will count\nTee Time start at 9am for all rounds\n\nTournament Schedule: \n1st Round – Flanders Valley on July 11th \n2nd Round – Sunset Valley on July 25th \n3rd Round – Pinch Brook on August 8th \nFinal Round – Berkshire Valley on August 22nd \nREGISTER NOW!
URL:https://www.morriscountygolfcourses.com/event/morris-county-interclub-tournament-2025/2025-08-22/
LOCATION:New Jersey
ORGANIZER;CN="Bill Meyler":MAILTO:bmeyler@kempersports.com
END:VEVENT
BEGIN:VEVENT
DTSTART;TZID=America/New_York:20250829T200000
DTEND;TZID=America/New_York:20250829T230000
DTSTAMP:20260420T060605
CREATED:20250513T195459Z
LAST-MODIFIED:20250917T170341Z
UID:10000057-1756497600-1756508400@www.morriscountygolfcourses.com
SUMMARY:Night Golf at Pinch Brook
DESCRIPTION:Just because the sun has gone down does not mean golf has to end. Night Golf at Pinch Brook Golf Course is back!! There are 8 events this year to get in on the fun. A non-refundable $60 per person per session is due at sign-up. This event is WALKING ONLY!  \nWhat’s Included: Greens Fee\, 2 Glow Balls\, Glow Necklace\, Drink Ticket and Door Prize. \nAll dates are to be held at Pinch Brook Golf Course. \nFriday June 6th – 9 hole Shotgun @ 9pm \nFriday June 20th – 9 hole Shotgun @ 9pm \nFriday July 11th – 9 hole Shotgun @ 9pm \nFriday July 18th – 9 hole Shotgun @ 9pm \nFriday August 1st – 9 hole Shotgun @ 9pm \nFriday August 15th – 9 hole Shotgun @ 8:30pm \nFriday August 29th – 9 hole Shotgun @ 8pm \nFriday September 19th- 9 hole Shotgun @7:30PM- FULLY BOOKED \nREGISTER NOW!
URL:https://www.morriscountygolfcourses.com/event/night-golf-at-pinch-brook/2025-08-29/
LOCATION:Pinch Brook Golf Course\, 234 Ridgedale Avenue\, Florham Park\, New Jersey\, 07932
END:VEVENT
END:VCALENDAR