BEGIN:VCALENDAR
VERSION:2.0
PRODID:-//Morris County Golf Courses - ECPv6.15.18//NONSGML v1.0//EN
CALSCALE:GREGORIAN
METHOD:PUBLISH
X-ORIGINAL-URL:https://www.morriscountygolfcourses.com
X-WR-CALDESC:Events for Morris County Golf Courses
REFRESH-INTERVAL;VALUE=DURATION:PT1H
X-Robots-Tag:noindex
X-PUBLISHED-TTL:PT1H
BEGIN:VTIMEZONE
TZID:America/New_York
BEGIN:DAYLIGHT
TZOFFSETFROM:-0500
TZOFFSETTO:-0400
TZNAME:EDT
DTSTART:20240310T070000
END:DAYLIGHT
BEGIN:STANDARD
TZOFFSETFROM:-0400
TZOFFSETTO:-0500
TZNAME:EST
DTSTART:20241103T060000
END:STANDARD
BEGIN:DAYLIGHT
TZOFFSETFROM:-0500
TZOFFSETTO:-0400
TZNAME:EDT
DTSTART:20250309T070000
END:DAYLIGHT
BEGIN:STANDARD
TZOFFSETFROM:-0400
TZOFFSETTO:-0500
TZNAME:EST
DTSTART:20251102T060000
END:STANDARD
BEGIN:DAYLIGHT
TZOFFSETFROM:-0500
TZOFFSETTO:-0400
TZNAME:EDT
DTSTART:20260308T070000
END:DAYLIGHT
BEGIN:STANDARD
TZOFFSETFROM:-0400
TZOFFSETTO:-0500
TZNAME:EST
DTSTART:20261101T060000
END:STANDARD
END:VTIMEZONE
BEGIN:VEVENT
DTSTART;TZID=America/New_York:20250919T193000
DTEND;TZID=America/New_York:20250919T220000
DTSTAMP:20260424T072809
CREATED:20250513T195459Z
LAST-MODIFIED:20250917T170341Z
UID:10000082-1758310200-1758319200@www.morriscountygolfcourses.com
SUMMARY:Night Golf at Pinch Brook
DESCRIPTION:Just because the sun has gone down does not mean golf has to end. Night Golf at Pinch Brook Golf Course is back!! There are 8 events this year to get in on the fun. A non-refundable $60 per person per session is due at sign-up. This event is WALKING ONLY!  \nWhat’s Included: Greens Fee\, 2 Glow Balls\, Glow Necklace\, Drink Ticket and Door Prize. \nAll dates are to be held at Pinch Brook Golf Course. \nFriday June 6th – 9 hole Shotgun @ 9pm \nFriday June 20th – 9 hole Shotgun @ 9pm \nFriday July 11th – 9 hole Shotgun @ 9pm \nFriday July 18th – 9 hole Shotgun @ 9pm \nFriday August 1st – 9 hole Shotgun @ 9pm \nFriday August 15th – 9 hole Shotgun @ 8:30pm \nFriday August 29th – 9 hole Shotgun @ 8pm \nFriday September 19th- 9 hole Shotgun @7:30PM- FULLY BOOKED \nREGISTER NOW!
URL:https://www.morriscountygolfcourses.com/event/night-golf-at-pinch-brook/2025-09-19/
LOCATION:Pinch Brook Golf Course\, 234 Ridgedale Avenue\, Florham Park\, New Jersey\, 07932
END:VEVENT
BEGIN:VEVENT
DTSTART;TZID=America/New_York:20250922T090000
DTEND;TZID=America/New_York:20250922T160000
DTSTAMP:20260424T072809
CREATED:20250430T173410Z
LAST-MODIFIED:20250904T180301Z
UID:10000036-1758531600-1758556800@www.morriscountygolfcourses.com
SUMMARY:19th Annual Park Alliance Golf Outing
DESCRIPTION:Join the Alliance for Morris County Parks\, on Monday September 22nd\, 2025\, as it sponsors the 19th Annual Team Golf Outing at Berkshire Valley Golf Course! \nRegistration is $175 per golfer and includes Golf\, Cart\, Range\, Goody Bag\, Breakfast\, Lunch after the round\, Contests and Prizes PLUS every attendee receives a free golf round certificate for a later date. \nSponsorship opportunities are available as well by clicking here! 100% of the proceeds from this year’s event will benefit current projects of the Alliance in Morris County Parks. Goody bag donations also accepted\, please contact dlanza@morrisparks.net for more information. \nSold out for this year! – Thank you!!
URL:https://www.morriscountygolfcourses.com/event/19th-annual-park-alliance-golf-outing/
LOCATION:Berkshire Valley Golf Course\, 28 Cozy Lake Road\, Oak Ridge\, NJ\, 07438\, United States
END:VEVENT
BEGIN:VEVENT
DTSTART;TZID=America/New_York:20250926T080000
DTEND;TZID=America/New_York:20250926T163000
DTSTAMP:20260424T072809
CREATED:20250804T154148Z
LAST-MODIFIED:20250915T144901Z
UID:10000074-1758873600-1758904200@www.morriscountygolfcourses.com
SUMMARY:Folds of Honor at Flanders Valley
DESCRIPTION:Flanders Valley Golf Course is hosting a charity event for Folds of Honor on Friday September 26th\, 2025. Proceeds will be donated to the organization that helps military and first responder heroes and their families by providing Folds of Honor academic scholarships. We will have contests throughout the round\, raffles and 50/50. \nEvent Details: \n\n9:00 AM Shotgun Start\n4 Person Scramble\n$440 Per Team –  includes 18 holes of golf and cart\, tee gift\, Drink Ticket\, $20 donation\, lunch and prizes after the round\n\nREGISTER HERE
URL:https://www.morriscountygolfcourses.com/event/folds-of-honor-at-flanders-valley/
LOCATION:Flanders Valley\, 81 Pleasant Hill Road\, Flanders\, NJ\, 07836\, United States
END:VEVENT
END:VCALENDAR