BEGIN:VCALENDAR
VERSION:2.0
PRODID:-//Morris County Golf Courses - ECPv6.15.18//NONSGML v1.0//EN
CALSCALE:GREGORIAN
METHOD:PUBLISH
X-ORIGINAL-URL:https://www.morriscountygolfcourses.com
X-WR-CALDESC:Events for Morris County Golf Courses
REFRESH-INTERVAL;VALUE=DURATION:PT1H
X-Robots-Tag:noindex
X-PUBLISHED-TTL:PT1H
BEGIN:VTIMEZONE
TZID:America/New_York
BEGIN:DAYLIGHT
TZOFFSETFROM:-0500
TZOFFSETTO:-0400
TZNAME:EDT
DTSTART:20250309T070000
END:DAYLIGHT
BEGIN:STANDARD
TZOFFSETFROM:-0400
TZOFFSETTO:-0500
TZNAME:EST
DTSTART:20251102T060000
END:STANDARD
BEGIN:DAYLIGHT
TZOFFSETFROM:-0500
TZOFFSETTO:-0400
TZNAME:EDT
DTSTART:20260308T070000
END:DAYLIGHT
BEGIN:STANDARD
TZOFFSETFROM:-0400
TZOFFSETTO:-0500
TZNAME:EST
DTSTART:20261101T060000
END:STANDARD
BEGIN:DAYLIGHT
TZOFFSETFROM:-0500
TZOFFSETTO:-0400
TZNAME:EDT
DTSTART:20270314T070000
END:DAYLIGHT
BEGIN:STANDARD
TZOFFSETFROM:-0400
TZOFFSETTO:-0500
TZNAME:EST
DTSTART:20271107T060000
END:STANDARD
END:VTIMEZONE
BEGIN:VEVENT
DTSTART;TZID=America/New_York:20260207T103000
DTEND;TZID=America/New_York:20260207T163000
DTSTAMP:20260424T223726
CREATED:20260107T152423Z
LAST-MODIFIED:20260116T165625Z
UID:10000102-1770460200-1770481800@www.morriscountygolfcourses.com
SUMMARY:2026 ScramBOWL at Flanders Valley
DESCRIPTION:🏈 ScramBOWL Golf Scramble 🏌️‍♂️ \nSaturday\, February 7th \nGet ready for the ultimate crossover of football excitement and golf fun! The ScramBOWL is a Big Game–themed golf scramble designed for players of all skill levels. Grab your teammates\, rep your favorite team\, and enjoy a high-energy day on the course filled with competition\, creativity\, and camaraderie. Come dressed in your favorite football jerseys and show off your team pride all day long! \n— \nWhat’s Included \n– 🏌️‍♂️ **18 Holes of Golf with Cart**\n– 🍺 **Two Drink Tickets per Player**\n– 🌭 **Grill Lunch at the Turn**\n– 🎯 **On-Course Contests**\n– 🏆 **Prizes for the Winning Team**\n– 🚗 **Prize for Best Decorated Golf Cart** \n— \nEvent Schedule \n🕣 **8:30 – 9:30 AM** — Player Registration & Check-In\n🕙 **10:00 AM** — Shotgun Start \nPlease arrive early to allow time for registration\, warm-up\, and cart decorating. \n— \nPricing \n💵 **$80 per player** \nYour entry includes golf\, cart\, drink tickets\, contests\, and eligibility for all prizes. \n— \nContests & Prizes \n– 🎯 **Closest to the Pin**\n– 💪 **Long Drive** \n– 🏆 **Winning Scramble Team** \n– 👕 **Best Dressed**\n– 🚗 **Best Decorated Cart** (football themes encouraged!) \n  \nDress Code: Game Day Style \nFootball jerseys are highly encouraged! Wear your favorite team’s colors and help bring the Big-Game atmosphere to the course. \n  \nSpots are limited to 72 players\, so don’t miss your chance to be part of the ScramBOWL. Gather your team\, decorate your cart\, and join us for a fun-filled day of golf and football-themed excitement. \n👉 **Register today and get ready to tee it up—ScramBOWL style!** \n  \nPlease enable JavaScript in your browser to complete this form.Team CapitanEmail *Phone *		\n			in Numbers per\n			\n		\n		Payment Type - $80 per Player (Includes  Golf with cart\, 2 Drink tickets\, Lunch Voucher & Prizes)  Check - Make payable to Flanders Valley Golf Course. Please mail to Flanders Valley with completed form ( 81 Pleasant Hill Rd\, Flanders\, NJ 07836)Credit Card - please input information below - Card will not be charged until the day of eventNumbers of Players in Group2 Players3 Players4 PlayersPayment For credit card payments\, the charge will be processed upon receipt and completion of this form. Please note a 3.5% surcharge does apply.Name on Credit CardCredit Card NumberExpiration DateSecurity CodeI understand and agree to abide by the following:\nPayment Policy: Payment for the full amounts must be included. Payments will be processed upon receipt. Insufficient funds\, returned check or refused credit card charge will incur a fee of $20. Please be advised that a 3% processing fee will be applied to all online registrations paid by credit/debit card. This fee covers the cost of credit card transactions and is non-refundable. \nCancellation Policy: All cancellations must be in writing and submitted to bmeyler@kempersports.com. Cancellations received two weeks before the date of the program will be honored. \nSubmit
URL:https://www.morriscountygolfcourses.com/event/2026_scrambowl/
LOCATION:New Jersey
END:VEVENT
BEGIN:VEVENT
DTSTART;TZID=America/New_York:20260212T090000
DTEND;TZID=America/New_York:20260212T150000
DTSTAMP:20260424T223726
CREATED:20251218T182722Z
LAST-MODIFIED:20251230T141826Z
UID:10000100-1770886800-1770908400@www.morriscountygolfcourses.com
SUMMARY:Morris County Golf Courses Job Fair
DESCRIPTION:The Morris County Golf Courses are hiring for the 2026 season. If you enjoy working outdoors\, providing great customer service and being part of a fun\, fast-paced environment\, we would love to meet you! We have openings in all positions depending on location\, but some include Pro Shop Attendant\, Outside Services and Food & Beverage Attendants. Managers from Berkshire Valley\, Flanders Valley\, Pinch Brook and Sunset Valley will  be available to answer any questions. \nSchedule of Job Fairs \n\nTuesday January 13th from 9am to 3pm at Pinch Brook Golf Course\nTuesday January 27th from 9am to 3pm at Sunset Valley Golf Course\nThursday February 12th from 9am to 3pm at Flanders Valley Golf Course\nThursday February 19th from 9am to 3pm at Pinch Brook Golf Course\n\nFeel free to bring a resume\, a schedule of your availability and a valid ID. We will have applications available on site. \nIf you are not able to make one of the fairs we still want to hear from you. You can fill out an online application here.
URL:https://www.morriscountygolfcourses.com/event/job-fair/2026-02-12/
LOCATION:Pinch Brook Golf Course\, 234 Ridgedale Avenue\, Florham Park\, New Jersey\, 07932
END:VEVENT
BEGIN:VEVENT
DTSTART;TZID=America/New_York:20260219T090000
DTEND;TZID=America/New_York:20260219T150000
DTSTAMP:20260424T223726
CREATED:20251218T182722Z
LAST-MODIFIED:20251230T141826Z
UID:10000101-1771491600-1771513200@www.morriscountygolfcourses.com
SUMMARY:Morris County Golf Courses Job Fair
DESCRIPTION:The Morris County Golf Courses are hiring for the 2026 season. If you enjoy working outdoors\, providing great customer service and being part of a fun\, fast-paced environment\, we would love to meet you! We have openings in all positions depending on location\, but some include Pro Shop Attendant\, Outside Services and Food & Beverage Attendants. Managers from Berkshire Valley\, Flanders Valley\, Pinch Brook and Sunset Valley will  be available to answer any questions. \nSchedule of Job Fairs \n\nTuesday January 13th from 9am to 3pm at Pinch Brook Golf Course\nTuesday January 27th from 9am to 3pm at Sunset Valley Golf Course\nThursday February 12th from 9am to 3pm at Flanders Valley Golf Course\nThursday February 19th from 9am to 3pm at Pinch Brook Golf Course\n\nFeel free to bring a resume\, a schedule of your availability and a valid ID. We will have applications available on site. \nIf you are not able to make one of the fairs we still want to hear from you. You can fill out an online application here.
URL:https://www.morriscountygolfcourses.com/event/job-fair/2026-02-19/
LOCATION:Pinch Brook Golf Course\, 234 Ridgedale Avenue\, Florham Park\, New Jersey\, 07932
END:VEVENT
END:VCALENDAR