BEGIN:VCALENDAR
VERSION:2.0
PRODID:-//Morris County Golf Courses - ECPv6.15.18//NONSGML v1.0//EN
CALSCALE:GREGORIAN
METHOD:PUBLISH
X-ORIGINAL-URL:https://www.morriscountygolfcourses.com
X-WR-CALDESC:Events for Morris County Golf Courses
REFRESH-INTERVAL;VALUE=DURATION:PT1H
X-Robots-Tag:noindex
X-PUBLISHED-TTL:PT1H
BEGIN:VTIMEZONE
TZID:UTC
BEGIN:STANDARD
TZOFFSETFROM:+0000
TZOFFSETTO:+0000
TZNAME:UTC
DTSTART:20240101T000000
END:STANDARD
END:VTIMEZONE
BEGIN:VTIMEZONE
TZID:America/New_York
BEGIN:DAYLIGHT
TZOFFSETFROM:-0500
TZOFFSETTO:-0400
TZNAME:EDT
DTSTART:20240310T070000
END:DAYLIGHT
BEGIN:STANDARD
TZOFFSETFROM:-0400
TZOFFSETTO:-0500
TZNAME:EST
DTSTART:20241103T060000
END:STANDARD
BEGIN:DAYLIGHT
TZOFFSETFROM:-0500
TZOFFSETTO:-0400
TZNAME:EDT
DTSTART:20250309T070000
END:DAYLIGHT
BEGIN:STANDARD
TZOFFSETFROM:-0400
TZOFFSETTO:-0500
TZNAME:EST
DTSTART:20251102T060000
END:STANDARD
BEGIN:DAYLIGHT
TZOFFSETFROM:-0500
TZOFFSETTO:-0400
TZNAME:EDT
DTSTART:20260308T070000
END:DAYLIGHT
BEGIN:STANDARD
TZOFFSETFROM:-0400
TZOFFSETTO:-0500
TZNAME:EST
DTSTART:20261101T060000
END:STANDARD
END:VTIMEZONE
BEGIN:VEVENT
DTSTART;TZID=UTC:20250710T100000
DTEND;TZID=UTC:20250710T110000
DTSTAMP:20260419T105119
CREATED:20250327T222424Z
LAST-MODIFIED:20250424T180542Z
UID:10000016-1752141600-1752145200@www.morriscountygolfcourses.com
SUMMARY:Putting Sessions
DESCRIPTION:Successful putting is a combination of science\, art and bit of imagination. This interactive session will discuss techniques that will have you more comfortable on the putting green over the ball. Confidence as you address the ball and make the motion to strike the putt will go a long way to holing more putts. \nRATES: $50 per person per session\, 3 golfer minimum and 8 golfer maximum \nDATES & TIMES:\nMay 2nd\, 2025 – 10:00am – Pinch Brook Golf Course \nJune 5\, 2025 – 10:00am – Flanders Valley Golf Course \nJuly 10th\, 2025 – 6:00pm – Pinch Brook Golf Course \nAugust 11th\, 2025 – 6:00pm – Flanders Valley Golf Course \n  \nREGISTER NOW
URL:https://www.morriscountygolfcourses.com/event/putting-sessions/2025-07-10/
LOCATION:Pinch Brook Golf Course\, 234 Ridgedale Avenue\, Florham Park\, New Jersey\, 07932
END:VEVENT
BEGIN:VEVENT
DTSTART;TZID=America/New_York:20250620T200000
DTEND;TZID=America/New_York:20250620T230000
DTSTAMP:20260419T105119
CREATED:20250513T195459Z
LAST-MODIFIED:20250917T170341Z
UID:10000052-1750449600-1750460400@www.morriscountygolfcourses.com
SUMMARY:Night Golf at Pinch Brook
DESCRIPTION:Just because the sun has gone down does not mean golf has to end. Night Golf at Pinch Brook Golf Course is back!! There are 8 events this year to get in on the fun. A non-refundable $60 per person per session is due at sign-up. This event is WALKING ONLY!  \nWhat’s Included: Greens Fee\, 2 Glow Balls\, Glow Necklace\, Drink Ticket and Door Prize. \nAll dates are to be held at Pinch Brook Golf Course. \nFriday June 6th – 9 hole Shotgun @ 9pm \nFriday June 20th – 9 hole Shotgun @ 9pm \nFriday July 11th – 9 hole Shotgun @ 9pm \nFriday July 18th – 9 hole Shotgun @ 9pm \nFriday August 1st – 9 hole Shotgun @ 9pm \nFriday August 15th – 9 hole Shotgun @ 8:30pm \nFriday August 29th – 9 hole Shotgun @ 8pm \nFriday September 19th- 9 hole Shotgun @7:30PM- FULLY BOOKED \nREGISTER NOW!
URL:https://www.morriscountygolfcourses.com/event/night-golf-at-pinch-brook/2025-06-20/
LOCATION:Pinch Brook Golf Course\, 234 Ridgedale Avenue\, Florham Park\, New Jersey\, 07932
END:VEVENT
BEGIN:VEVENT
DTSTART;TZID=America/New_York:20250611T170000
DTEND;TZID=America/New_York:20250611T183000
DTSTAMP:20260419T105119
CREATED:20250506T200257Z
LAST-MODIFIED:20250506T201451Z
UID:10000050-1749661200-1749666600@www.morriscountygolfcourses.com
SUMMARY:Taylor Made Putter Day at Pinch Brook
DESCRIPTION:Join us for our inaugural Taylor Made Putter Fitting Day on June 11th at Pinch Brook Golf Course. \nPutting Session fee is $325 per person and includes: \n\nPutting clinic with Mike Andrusin\, PGA\nFitting for Taylor Made Tour X putter by Company Techs\nFit for length\, hosel and head design\nChrome or Black finish\nYour putter will be shipped to Pinch Brook\n\nTo sign-up please click here!
URL:https://www.morriscountygolfcourses.com/event/taylor-made-putter-day-at-pinch-brook/
LOCATION:Pinch Brook Golf Course\, 234 Ridgedale Avenue\, Florham Park\, New Jersey\, 07932
END:VEVENT
BEGIN:VEVENT
DTSTART;TZID=America/New_York:20250606T200000
DTEND;TZID=America/New_York:20250606T230000
DTSTAMP:20260419T105119
CREATED:20250513T195459Z
LAST-MODIFIED:20250917T170341Z
UID:10000051-1749240000-1749250800@www.morriscountygolfcourses.com
SUMMARY:Night Golf at Pinch Brook
DESCRIPTION:Just because the sun has gone down does not mean golf has to end. Night Golf at Pinch Brook Golf Course is back!! There are 8 events this year to get in on the fun. A non-refundable $60 per person per session is due at sign-up. This event is WALKING ONLY!  \nWhat’s Included: Greens Fee\, 2 Glow Balls\, Glow Necklace\, Drink Ticket and Door Prize. \nAll dates are to be held at Pinch Brook Golf Course. \nFriday June 6th – 9 hole Shotgun @ 9pm \nFriday June 20th – 9 hole Shotgun @ 9pm \nFriday July 11th – 9 hole Shotgun @ 9pm \nFriday July 18th – 9 hole Shotgun @ 9pm \nFriday August 1st – 9 hole Shotgun @ 9pm \nFriday August 15th – 9 hole Shotgun @ 8:30pm \nFriday August 29th – 9 hole Shotgun @ 8pm \nFriday September 19th- 9 hole Shotgun @7:30PM- FULLY BOOKED \nREGISTER NOW!
URL:https://www.morriscountygolfcourses.com/event/night-golf-at-pinch-brook/2025-06-06/
LOCATION:Pinch Brook Golf Course\, 234 Ridgedale Avenue\, Florham Park\, New Jersey\, 07932
END:VEVENT
BEGIN:VEVENT
DTSTART;TZID=UTC:20250502T100000
DTEND;TZID=UTC:20250502T110000
DTSTAMP:20260419T105119
CREATED:20250327T222424Z
LAST-MODIFIED:20250424T180542Z
UID:10000015-1746180000-1746183600@www.morriscountygolfcourses.com
SUMMARY:Putting Sessions
DESCRIPTION:Successful putting is a combination of science\, art and bit of imagination. This interactive session will discuss techniques that will have you more comfortable on the putting green over the ball. Confidence as you address the ball and make the motion to strike the putt will go a long way to holing more putts. \nRATES: $50 per person per session\, 3 golfer minimum and 8 golfer maximum \nDATES & TIMES:\nMay 2nd\, 2025 – 10:00am – Pinch Brook Golf Course \nJune 5\, 2025 – 10:00am – Flanders Valley Golf Course \nJuly 10th\, 2025 – 6:00pm – Pinch Brook Golf Course \nAugust 11th\, 2025 – 6:00pm – Flanders Valley Golf Course \n  \nREGISTER NOW
URL:https://www.morriscountygolfcourses.com/event/putting-sessions/2025-05-02/
LOCATION:Pinch Brook Golf Course\, 234 Ridgedale Avenue\, Florham Park\, New Jersey\, 07932
END:VEVENT
END:VCALENDAR